BEGIN:VCALENDAR
VERSION:2.0
PRODID:-//eventon.com NONSGML v1.0//EN
CALSCALE:GREGORIAN
METHOD:PUBLISH
BEGIN:VEVENT
UID:69ebcf1f0355d
DTSTAMP:20260424T201423Z
DTSTART:20231127T170000Z
DTEND:20231127T180000Z
LOCATION:1
SUMMARY:Arbeitstreffen
DESCRIPTION:Arbeitstreffen\nhttps://sassenburg-spd.de/events/arbeitstreffen
 -10/
URL:https://sassenburg-spd.de/events/arbeitstreffen-10/
END:VEVENT
END:VCALENDAR